BEGIN:VCALENDAR
VERSION:2.0
PRODID:-//Alisea - ECPv6.4.0//NONSGML v1.0//EN
CALSCALE:GREGORIAN
METHOD:PUBLISH
X-ORIGINAL-URL:https://alisea.com
X-WR-CALDESC:Events for Alisea
REFRESH-INTERVAL;VALUE=DURATION:PT1H
X-Robots-Tag:noindex
X-PUBLISHED-TTL:PT1H
BEGIN:VTIMEZONE
TZID:Europe/Rome
BEGIN:DAYLIGHT
TZOFFSETFROM:+0100
TZOFFSETTO:+0200
TZNAME:CEST
DTSTART:20260329T010000
END:DAYLIGHT
BEGIN:STANDARD
TZOFFSETFROM:+0200
TZOFFSETTO:+0100
TZNAME:CET
DTSTART:20261025T010000
END:STANDARD
END:VTIMEZONE
BEGIN:VEVENT
DTSTART;TZID=Europe/Rome:20260508T090000
DTEND;TZID=Europe/Rome:20260508T130000
DTSTAMP:20260424T174715
CREATED:20260209T162002Z
LAST-MODIFIED:20260209T162002Z
UID:10000057-1778230800-1778245200@alisea.com
SUMMARY:Gestione igienica degli impianti di trattamento aria: ispezione e sanificazione
DESCRIPTION:Il corso vuole offrire una panoramica su tutti gli aspetti operativi di ispezione e sorveglianza degli impianti\, entrando poi nel merito delle principali tecniche di sanificazione e\, anche in funzione di una tutela degli addetti alla manutenzione\, attraverso una disamina attenta delle procedure adottate e dei dispositivi di protezione individuale. L’obiettivo del corso è permettere la comprensione degli aspetti tecnici e procedurali delle operazioni di ispezione e sanificazione aeraulica\, al fine di supervisionare l’esecuzione e verificarne i risultati. Infine\, si presenterà un moderno sistema di controllo remotizzato delle condizioni igieniche basato sull’intelligenza artificiale. \n  \nDocente: Massimo Vecchi \n\n\nScarica la Brochure del corso \n\nPer iscriverti o chiedere informazioni\, compila il form qui sotto! \n		\n					\n								\n						\n							\n					\n			\n							\n						\n						\n							\n					\n			\n							\n						\n				\n					\n			\n			\n			\n\n			\n			\n								\n												\n								Nome							\n														\n											\n								\n												\n								Cognome							\n														\n											\n								\n												\n								Azienda							\n														\n											\n								\n												\n								Email							\n														\n											\n								\n												\n								Numero di Telefono							\n								\n\n						\n								\n												\n								Seleziona la data che ti interessa tra quelle proposte							\n						\n		\n						\n								\n												\n								Messaggio							\n										\n								\n									\n								\n							\n			\n				\n				Ho letto ed accetto la normativa sulla privacy policy			\n		\n						\n								\n									\n								\n					\n						\n															\n																										\n																						Invia
URL:https://alisea.com/corso/gestione-igienica-degli-impianti-di-trattamento-aria-ispezione-e-sanificazione-8/
LOCATION:Alisea S.r.l.\, Frazione Tornello\, 120\, Mezzanino\, PV\, 27040\, Italia
CATEGORIES:Corso 2
ATTACH;FMTTYPE=image/jpeg:https://alisea.com/wp-content/uploads/2024/02/corso-gestione-igienica-jpg.webp
END:VEVENT
BEGIN:VEVENT
DTSTART;TZID=Europe/Rome:20260529T090000
DTEND;TZID=Europe/Rome:20260529T130000
DTSTAMP:20260424T174716
CREATED:20260107T092211Z
LAST-MODIFIED:20260202T142552Z
UID:10000050-1780045200-1780059600@alisea.com
SUMMARY:Gestione igienica degli impianti di trattamento aria: ispezione e sanificazione
DESCRIPTION:Il corso vuole offrire una panoramica su tutti gli aspetti operativi di ispezione e sorveglianza degli impianti\, entrando poi nel merito delle principali tecniche di sanificazione e\, anche in funzione di una tutela degli addetti alla manutenzione\, attraverso una disamina attenta delle procedure adottate e dei dispositivi di protezione individuale. L’obiettivo del corso è permettere la comprensione degli aspetti tecnici e procedurali delle operazioni di ispezione e sanificazione aeraulica\, al fine di supervisionare l’esecuzione e verificarne i risultati. Infine\, si presenterà un moderno sistema di controllo remotizzato delle condizioni igieniche basato sull’intelligenza artificiale. \n  \nDocente: Massimo Vecchi \n\n\nScarica la Brochure del corso \n\nPer iscriverti o chiedere informazioni\, compila il form qui sotto! \n		\n					\n								\n						\n							\n					\n			\n							\n						\n						\n							\n					\n			\n							\n						\n				\n					\n			\n			\n			\n\n			\n			\n								\n												\n								Nome							\n														\n											\n								\n												\n								Cognome							\n														\n											\n								\n												\n								Azienda							\n														\n											\n								\n												\n								Email							\n														\n											\n								\n												\n								Numero di Telefono							\n								\n\n						\n								\n												\n								Seleziona la data che ti interessa tra quelle proposte							\n						\n		\n						\n								\n												\n								Messaggio							\n										\n								\n									\n								\n							\n			\n				\n				Ho letto ed accetto la normativa sulla privacy policy			\n		\n						\n								\n									\n								\n					\n						\n															\n																										\n																						Invia
URL:https://alisea.com/corso/gestione-igienica-degli-impianti-di-trattamento-aria-ispezione-e-sanificazione-11/
LOCATION:Maranello Village\, Via Terra delle Rosse\, 12\, 41053 Maranello MO\, Maranello\, Italia
CATEGORIES:Corso 2
ATTACH;FMTTYPE=image/jpeg:https://alisea.com/wp-content/uploads/2024/02/corso-gestione-igienica-jpg.webp
END:VEVENT
END:VCALENDAR