BEGIN:VCALENDAR
VERSION:2.0
PRODID:-//Alisea - ECPv6.4.0//NONSGML v1.0//EN
CALSCALE:GREGORIAN
METHOD:PUBLISH
X-ORIGINAL-URL:https://alisea.com
X-WR-CALDESC:Events for Alisea
REFRESH-INTERVAL;VALUE=DURATION:PT1H
X-Robots-Tag:noindex
X-PUBLISHED-TTL:PT1H
BEGIN:VTIMEZONE
TZID:Europe/Rome
BEGIN:DAYLIGHT
TZOFFSETFROM:+0100
TZOFFSETTO:+0200
TZNAME:CEST
DTSTART:20260329T010000
END:DAYLIGHT
BEGIN:STANDARD
TZOFFSETFROM:+0200
TZOFFSETTO:+0100
TZNAME:CET
DTSTART:20261025T010000
END:STANDARD
END:VTIMEZONE
BEGIN:VEVENT
DTSTART;TZID=Europe/Rome:20260213T090000
DTEND;TZID=Europe/Rome:20260213T130000
DTSTAMP:20260424T191728
CREATED:20260107T092640Z
LAST-MODIFIED:20260121T103429Z
UID:10000051-1770973200-1770987600@alisea.com
SUMMARY:Aggiornamento Normativo Aria/Acqua - Decreto 102/2025\, UNI 11976 e UNI 15780:2025
DESCRIPTION:Un percorso formativo di 4 ore dedicato ai professionisti che vogliono aggiornarsi sulle più recenti disposizioni normative in materia di qualità dell’aria e sicurezza idrica negli ambienti di lavoro\, con particolare focus sulla gestione del rischio Legionellosi in azienda.\n\nIl corso fornisce gli strumenti operativi per comprendere e applicare correttamente gli obblighi introdotti dal D.Lgs. 102/2025\, le linee guida della UNI 11976:2025\, con particolare attenzione all’integrazione tra la gestione degli impianti idrici e aeraulici\, e la nuova UNI 15780:2025 relativa alla pulizia degli impianti di ventilazione con focus sui sistemi di estrazione delle cucine. Il corso verrà realizzato in collaborazione con il nostro partner Chimica Ecologica S.p.A.\n\nProgramma del corso:\n1. Quadro normativo e applicazione in azienda\n\nAnalisi del D.Lgs. 18/2023 (e successive modifiche)\, della UNI 11976:2025 e della UNI 15780:2025\nProcedure operative per l’adeguamento agli obblighi normativi\nModelli di documentazione: DVRL (Documento di Valutazione del Rischio Legionella) e Piano di autocontrollo\n\n2. Prevenzione e controllo della Legionellosi\n\nForme di prevenzione contro lo sviluppo della Legionella nei sistemi idrici\nIntegrazione tra gestione degli impianti idrici e aeraulici\nBest practice per la pulizia degli impianti di ventilazione\n\n3. Monitoraggio e gestione delle criticità\n\nMonitoraggio continuo degli impianti\nSoluzioni operative in caso di infezione degli impianti\nCasi pratici di implementazione\n\n4. Q&A e presentazione dei servizi\n\nDomande e approfondimenti\nPresentazione dei servizi offerti da Chimica Ecologica – Alisea\n\n\nPer iscriverti o chiedere informazioni\, compila il form qui sotto! \n		\n					\n								\n						\n							\n					\n			\n							\n						\n						\n							\n					\n			\n							\n						\n				\n					\n			\n			\n			\n\n			\n			\n								\n												\n								Nome							\n														\n											\n								\n												\n								Cognome							\n														\n											\n								\n												\n								Azienda							\n														\n											\n								\n												\n								Email							\n														\n											\n								\n												\n								Numero di Telefono							\n								\n\n						\n								\n												\n								Seleziona la data che ti interessa tra quelle proposte							\n						\n		\n						\n								\n												\n								Messaggio							\n										\n								\n									\n								\n							\n			\n				\n				Ho letto ed accetto la normativa sulla privacy policy			\n		\n						\n								\n									\n								\n					\n						\n															\n																										\n																						Invia
URL:https://alisea.com/corso/aggiornamento-normativo-aria-acqua-decreto-102-2025-uni-11976-e-uni-157802025/
LOCATION:Alisea S.r.l.\, Frazione Tornello\, 120\, Mezzanino\, PV\, 27040\, Italia
CATEGORIES:Aggiornamento Normativo Aria/Acqua
ATTACH;FMTTYPE=image/jpeg:https://alisea.com/wp-content/uploads/2024/02/corso-gestione-igienica-jpg.webp
END:VEVENT
BEGIN:VEVENT
DTSTART;TZID=Europe/Rome:20260219T090000
DTEND;TZID=Europe/Rome:20260219T110000
DTSTAMP:20260424T191728
CREATED:20260107T091351Z
LAST-MODIFIED:20260202T142147Z
UID:10000044-1771491600-1771498800@alisea.com
SUMMARY:La valutazione dei rischi legati all’igiene degli impianti di trattamento aria
DESCRIPTION:COSTO: 100€ + IVA (per i soci AIAS è previsto uno sconto) \nIl corso vuole fornire una panoramica completa sul rischio igienico associato al funzionamento degli impianti aeraulici (climatizzazione\, termoventilazione\, ventilazione) e sul sistema più moderno ed efficace per gestirlo. Dopo una parte descrittiva degli impianti di trattamento aria e del loro funzionamento\, entrando nel merito della loro componentistica (Unità di Trattamento Aria\, Umidificatori\, Torri Evaporative\, Condotte Aerauliche\, Unità Fancoil\, Unità a Split-System)\, saranno prese in esame le principali disposizioni normative e i relativi profili di responsabilità. Si analizzerà il Rischio Aeraulico nella sua specificità (vedi contaminazione chimica\, fisica e microbiologica)\, delineando un corretto sistema di Valutazione ai sensi del D.Lgs. 81/08 (DVR)\, di Gestione e di Comunicazione del rischio aeraulico che possa soddisfare i requisiti di igiene\, salute e sicurezza richiesti. \n⏰Durata: 2 ore\n🎓Rilascio: 2 CFP per aggiornamento HSE\, RSPP/ASPP\, Dirigenti\, Preposti\, Datori di Lavoro\n💻​Webinar \nDocente: Andrea Casa \n\nScarica la Brochure del corso \n\n\n		\n					\n								\n						\n							\n					\n			\n							\n						\n						\n							\n					\n			\n							\n						\n				\n			Richiedi Iscrizione sul sito AIAS		\n				\n				\n				\n								\n				Clicca su “Voglio Partecipare” sarai reindirizzato al sito AIAS per completare l’iscrizione. 					\n						\n				\n						\n					\n		\n				\n			\n							\n						\n				\n					\n			\n						\n							\n							\n						Voglio Partecipare
URL:https://alisea.com/corso/la-valutazione-dei-rischi-legati-alligiene-degli-impianti-di-trattamento-aria-15/
LOCATION:https://alisea.com/corso/la-valutazione-dei-rischi-legati-alligiene-degli-impianti-di-trattamento-aria-15/
CATEGORIES:Corso 1,Webinar
ATTACH;FMTTYPE=image/jpeg:https://alisea.com/wp-content/uploads/2024/02/Corso-valutazione-rischi-jpg.webp
END:VEVENT
BEGIN:VEVENT
DTSTART;TZID=Europe/Rome:20260219T143000
DTEND;TZID=Europe/Rome:20260219T160000
DTSTAMP:20260424T191728
CREATED:20260107T104514Z
LAST-MODIFIED:20260209T105900Z
UID:10000054-1771511400-1771516800@alisea.com
SUMMARY:WEBINAR: Gli impianti aeraulici\, in collaborazione con Vortice S.p.A.
DESCRIPTION:GLI IMPIANTI AERAULICI: gestione igienica ed efficienza energetica  \nContenuti del corso: \n\nLa funzione degli impianti aeraulici ed elementi costitutivi degli stessi\nCenni al dimensionamento degli impianti\nAggiornamenti normativi\nLa relazione tra gestione igienica degli impianti dell’aria ed efficienza energetica\nMonitoraggio ed ispezioni degli impianti\n\nDestinato a progettisti\, installatori\, manutentori di impianti aeraulici in ambito commerciale ed industriale. Vengono accennati i principi di dimensionamento degli impianti ed approfondita la loro corretta conduzione in termini di salubrità ed efficienza. \nModalità: Webinar\nRelatore: Gabriele Riva\, in collaborazione con Roberto Perego di Vortice S.p.A. \nPer iscriverti\, clicca sul link dell’evento:  \nISCRIVITI SUBITO!
URL:https://alisea.com/corso/webinar-gli-impianti-aeraulici-in-collaborazione-con-vortice-s-p-a/
LOCATION:
CATEGORIES:Aggiornamento Normativo Aria/Acqua,Corso 3,Webinar
ATTACH;FMTTYPE=image/png:https://alisea.com/wp-content/uploads/2026/01/webinar-Vortice-corso-febbraio-2026.png
END:VEVENT
END:VCALENDAR