BEGIN:VCALENDAR
VERSION:2.0
PRODID:-//Alisea - ECPv6.4.0//NONSGML v1.0//EN
CALSCALE:GREGORIAN
METHOD:PUBLISH
X-WR-CALNAME:Alisea
X-ORIGINAL-URL:https://alisea.com
X-WR-CALDESC:Events for Alisea
REFRESH-INTERVAL;VALUE=DURATION:PT1H
X-Robots-Tag:noindex
X-PUBLISHED-TTL:PT1H
BEGIN:VTIMEZONE
TZID:Europe/Rome
BEGIN:DAYLIGHT
TZOFFSETFROM:+0100
TZOFFSETTO:+0200
TZNAME:CEST
DTSTART:20250330T010000
END:DAYLIGHT
BEGIN:STANDARD
TZOFFSETFROM:+0200
TZOFFSETTO:+0100
TZNAME:CET
DTSTART:20251026T010000
END:STANDARD
END:VTIMEZONE
BEGIN:VEVENT
DTSTART;TZID=Europe/Rome:20251107T090000
DTEND;TZID=Europe/Rome:20251107T130000
DTSTAMP:20260425T000112
CREATED:20250131T142343Z
LAST-MODIFIED:20250703T141620Z
UID:10000035-1762506000-1762520400@alisea.com
SUMMARY:La valutazione dei rischi legati all’igiene degli impianti di trattamento aria
DESCRIPTION:CORSO DI FORMAZIONE\n \n\nIl corso\, in cui saranno approfonditi tutti gli aspetti chiave\, dalla valutazione dei rischi aeraulici alle più innovative soluzioni di monitoraggio\, è dedicato a professionisti del settore HVAC e a tutti i responsabili della sicurezza. Tramite l’apprendimento di strumenti concreti e conoscenze pratiche\, si scoprirà come implementare un sistema efficace di valutazione e gestione igienica degli impianti di trattamento aria all’interno dell’azienda.\nDettagli: \n\nIl corso prevede il rilascio di 4 crediti formativi professionali per RSPP/ASPP\, Dirigenti\, Preposti\, Datori di Lavoro.\nCosto del corso: 80€ + iva\nCorso erogato in presenza presso il Centro Medico Dott. Giulio Loreti\n\n           \n  \nPer info e iscrizioni scrivi a cristina.mazzola@alisea.com o 3453709363 \n  \nScarica la Brochure del corso     Scarica la Locandina del corso
URL:https://alisea.com/corso/la-valutazione-dei-rischi-legati-alligiene-degli-impianti-di-trattamento-aria-7-nov/
LOCATION:Centro Medico Dott. Giulio Loreti\, Località Settecamini\, 34\, 06042 Campello sul Clitunno PG\, Campello sul Clitunno PG\, Italy
CATEGORIES:Corso 1
ATTACH;FMTTYPE=image/jpeg:https://alisea.com/wp-content/uploads/2024/02/Corso-valutazione-rischi-jpg.webp
END:VEVENT
BEGIN:VEVENT
DTSTART;TZID=Europe/Rome:20251114T090000
DTEND;TZID=Europe/Rome:20251114T130000
DTSTAMP:20260425T000112
CREATED:20250131T141936Z
LAST-MODIFIED:20251023T123225Z
UID:10000032-1763110800-1763125200@alisea.com
SUMMARY:Aggiornamento Normativo Aria/Acqua - Decreto 102/2025\, UNI 11976 e UNI 15780:2025
DESCRIPTION:Un percorso formativo di 4 ore dedicato ai professionisti che vogliono aggiornarsi sulle più recenti disposizioni normative in materia di qualità dell’aria e sicurezza idrica negli ambienti di lavoro. Il corso fornisce gli strumenti operativi per comprendere e applicare correttamente gli obblighi introdotti dal D.Lgs. 102/2025\,  le linee guida della UNI 11976:2025\, con particolare attenzione all’integrazione tra la gestione degli impianti idrici e aeraulici e la nuova UNI 15780:2025 relativa alla pulizia degli impianti di ventilazione con focus sui sistemi di estrazione delle cucine. Il corso è in collaborazione con il nostro partner ACEL spa. \nVedremo nel dettaglio: \n\nAnalisi del D.Lgs. 102/2025\, della UNI 11976:2025 e della  UNI 15780:2025\nProcedure operative per l’adeguamento agli obblighi\nModelli di documentazione: DVRL e Piano di Sicurezza dell’Acqua (PSA)\nCasi pratici di implementazione\n\nPer iscriverti o chiedere informazioni\, compila il form qui sotto! \n		\n					\n								\n						\n							\n					\n			\n							\n						\n						\n							\n					\n			\n							\n						\n				\n					\n			\n			\n			\n\n			\n			\n								\n												\n								Nome							\n														\n											\n								\n												\n								Cognome							\n														\n											\n								\n												\n								Azienda							\n														\n											\n								\n												\n								Email							\n														\n											\n								\n												\n								Numero di Telefono							\n								\n\n						\n								\n												\n								Seleziona la data che ti interessa tra quelle proposte							\n						\n		\n						\n								\n												\n								Messaggio							\n										\n								\n									\n								\n							\n			\n				\n				Ho letto ed accetto la normativa sulla privacy policy			\n		\n						\n								\n									\n								\n					\n						\n															\n																										\n																						Invia
URL:https://alisea.com/corso/aggiornamento-normativo-aria-acqua/
LOCATION:Alisea S.r.l.\, Frazione Tornello\, 120\, Mezzanino\, PV\, 27040\, Italia
CATEGORIES:Aggiornamento Normativo Aria/Acqua
ATTACH;FMTTYPE=image/png:https://alisea.com/wp-content/uploads/2025/08/blog-legionella-090925.png
END:VEVENT
BEGIN:VEVENT
DTSTART;TZID=Europe/Rome:20251128T090000
DTEND;TZID=Europe/Rome:20251128T130000
DTSTAMP:20260425T000113
CREATED:20250131T142247Z
LAST-MODIFIED:20250715T123520Z
UID:10000034-1764320400-1764334800@alisea.com
SUMMARY:Gestione igienica degli impianti di trattamento aria: ispezione e sanificazione
DESCRIPTION:Il corso vuole offrire una panoramica su tutti gli aspetti operativi di ispezione e sorveglianza degli impianti\, entrando poi nel merito delle principali tecniche di sanificazione e\, anche in funzione di una tutela degli addetti alla manutenzione\, attraverso una disamina attenta delle procedure adottate e dei dispositivi di protezione individuale. L’obiettivo del corso è permettere la comprensione degli aspetti tecnici e procedurali delle operazioni di ispezione e sanificazione aeraulica\, al fine di supervisionare l’esecuzione e verificarne i risultati. Infine\, si presenterà un moderno sistema di controllo remotizzato delle condizioni igieniche basato sull’intelligenza artificiale. \n  \nDocente: Massimo Vecchi \n\n\nScarica la Brochure del corso \n\nPer iscriverti o chiedere informazioni\, compila il form qui sotto! \n		\n					\n								\n						\n							\n					\n			\n							\n						\n						\n							\n					\n			\n							\n						\n				\n					\n			\n			\n			\n\n			\n			\n								\n												\n								Nome							\n														\n											\n								\n												\n								Cognome							\n														\n											\n								\n												\n								Azienda							\n														\n											\n								\n												\n								Email							\n														\n											\n								\n												\n								Numero di Telefono							\n								\n\n						\n								\n												\n								Seleziona la data che ti interessa tra quelle proposte							\n						\n		\n						\n								\n												\n								Messaggio							\n										\n								\n									\n								\n							\n			\n				\n				Ho letto ed accetto la normativa sulla privacy policy			\n		\n						\n								\n									\n								\n					\n						\n															\n																										\n																						Invia
URL:https://alisea.com/corso/gestione-igienica-degli-impianti-di-trattamento-aria-ispezione-e-sanificazione-10/
LOCATION:Padova\, Da definire
CATEGORIES:Corso 2
ATTACH;FMTTYPE=image/jpeg:https://alisea.com/wp-content/uploads/2024/02/corso-gestione-igienica-jpg.webp
END:VEVENT
END:VCALENDAR