BEGIN:VCALENDAR
VERSION:2.0
PRODID:-//Alisea - ECPv6.4.0//NONSGML v1.0//EN
CALSCALE:GREGORIAN
METHOD:PUBLISH
X-ORIGINAL-URL:https://alisea.com
X-WR-CALDESC:Events for Alisea
REFRESH-INTERVAL;VALUE=DURATION:PT1H
X-Robots-Tag:noindex
X-PUBLISHED-TTL:PT1H
BEGIN:VTIMEZONE
TZID:Europe/Rome
BEGIN:DAYLIGHT
TZOFFSETFROM:+0100
TZOFFSETTO:+0200
TZNAME:CEST
DTSTART:20250330T010000
END:DAYLIGHT
BEGIN:STANDARD
TZOFFSETFROM:+0200
TZOFFSETTO:+0100
TZNAME:CET
DTSTART:20251026T010000
END:STANDARD
END:VTIMEZONE
BEGIN:VEVENT
DTSTART;TZID=Europe/Rome:20250924T090000
DTEND;TZID=Europe/Rome:20250924T110000
DTSTAMP:20260425T033148
CREATED:20250506T090748Z
LAST-MODIFIED:20250506T090748Z
UID:10000041-1758704400-1758711600@alisea.com
SUMMARY:Gestione igienica degli impianti aria: tecniche e sistemi di controllo
DESCRIPTION:COSTO: 100€ + IVA (per i soci AIAS è previsto uno sconto) \nIl corso vuole offrire una panoramica su tutti gli aspetti operativi di ispezione e sorveglianza degli impianti\, entrando poi nel merito delle principali tecniche di sanificazione e\, anche in funzione di una tutela degli addetti alla manutenzione\, attraverso una disamina attenta delle procedure adottate e dei dispositivi di protezione individuale. L’obiettivo del corso è permettere la comprensione degli aspetti tecnici e procedurali delle operazioni di ispezione e sanificazione aeraulica\, al fine di supervisionare l’esecuzione e verificarne i risultati. Infine\, si presenterà un moderno sistema di controllo remotizzato delle condizioni igieniche basato sull’intelligenza artificiale. \n  \nModalità: Webinar\nDocente: Andrea Casa \n  \n\n\nScarica la Brochure del corso
URL:https://alisea.com/corso/gestione-igienica-degli-impianti-aria-tecniche-e-sistemi-di-controllo-2/
LOCATION:https://alisea.com/corso/gestione-igienica-degli-impianti-aria-tecniche-e-sistemi-di-controllo-2/
CATEGORIES:Corso 2,Webinar
ATTACH;FMTTYPE=image/jpeg:https://alisea.com/wp-content/uploads/2024/02/corso-gestione-igienica-jpg.webp
END:VEVENT
BEGIN:VEVENT
DTSTART;TZID=Europe/Rome:20250926T090000
DTEND;TZID=Europe/Rome:20250926T130000
DTSTAMP:20260425T033148
CREATED:20250131T141149Z
LAST-MODIFIED:20250715T122410Z
UID:10000030-1758877200-1758891600@alisea.com
SUMMARY:La relazione tra gestione igienica degli impianti dell'aria ed efficienza energetica
DESCRIPTION:Da diversi anni la promozione dell’efficienza energetica è considerata uno dei principali pilastri per lo sviluppo sostenibile\, in quanto consente un migliore utilizzo delle risorse\, la riduzione dell’inquinamento e il ripristino della biodiversità del nostro pianeta. Gli edifici\, siano essi a servizio del settore terziario\, ospedaliero o industriale\, sono ancora responsabili di un elevato dispendio energetico. Il corso vuole fornire una panoramica completa sullo spreco di energia elettrica\, termica e frigorifera associato al funzionamento degli impianti aeraulici (climatizzazione\, termoventilazione\, ventilazione) e sul sistema più moderno ed efficace per eliminare eventuali perdite e tornare a lavorare in ottica di energy saving. \n  \nDocente: Gabriele Riva \n  \n\n\nScarica la Brochure del corso \n\nPer iscriverti o chiedere informazioni\, compila il form qui sotto! \n		\n					\n								\n						\n							\n					\n			\n							\n						\n						\n							\n					\n			\n							\n						\n				\n					\n			\n			\n			\n\n			\n			\n								\n												\n								Nome							\n														\n											\n								\n												\n								Cognome							\n														\n											\n								\n												\n								Azienda							\n														\n											\n								\n												\n								Email							\n														\n											\n								\n												\n								Numero di Telefono							\n								\n\n						\n								\n												\n								Seleziona la data che ti interessa tra quelle proposte							\n						\n		\n						\n								\n												\n								Messaggio							\n										\n								\n									\n								\n							\n			\n				\n				Ho letto ed accetto la normativa sulla privacy policy			\n		\n						\n								\n									\n								\n					\n						\n															\n																										\n																						Invia
URL:https://alisea.com/corso/la-relazione-tra-gestione-igienica-degli-impianti-dellaria-ed-efficienza-energetica-5/
LOCATION:Alisea S.r.l.\, Frazione Tornello\, 120\, Mezzanino\, PV\, 27040\, Italia
CATEGORIES:Corso 3
ATTACH;FMTTYPE=image/png:https://alisea.com/wp-content/uploads/2024/02/corso-efficienza-energetica.png
END:VEVENT
END:VCALENDAR