BEGIN:VCALENDAR
VERSION:2.0
PRODID:-//Alisea - ECPv6.4.0//NONSGML v1.0//EN
CALSCALE:GREGORIAN
METHOD:PUBLISH
X-WR-CALNAME:Alisea
X-ORIGINAL-URL:https://alisea.com
X-WR-CALDESC:Events for Alisea
REFRESH-INTERVAL;VALUE=DURATION:PT1H
X-Robots-Tag:noindex
X-PUBLISHED-TTL:PT1H
BEGIN:VTIMEZONE
TZID:Europe/Rome
BEGIN:DAYLIGHT
TZOFFSETFROM:+0100
TZOFFSETTO:+0200
TZNAME:CEST
DTSTART:20240331T010000
END:DAYLIGHT
BEGIN:STANDARD
TZOFFSETFROM:+0200
TZOFFSETTO:+0100
TZNAME:CET
DTSTART:20241027T010000
END:STANDARD
END:VTIMEZONE
BEGIN:VEVENT
DTSTART;TZID=Europe/Rome:20241206T090000
DTEND;TZID=Europe/Rome:20241206T130000
DTSTAMP:20260425T180957
CREATED:20240612T085251Z
LAST-MODIFIED:20240612T085251Z
UID:10000018-1733475600-1733490000@alisea.com
SUMMARY:La relazione tra gestione igienica degli impianti dell'aria ed efficienza energetica
DESCRIPTION:COSTO: 160€ + IVA (per i soci AIAS è previsto uno sconto) \nDa diversi anni la promozione dell’efficienza energetica è considerata uno dei principali pilastri per lo sviluppo sostenibile\, in quanto consente un migliore utilizzo delle risorse (favorendo il passaggio a un’economia circolare e pulita)\, la riduzione dell’inquinamento e il ripristino della biodiversità del nostro pianeta. Gli edifici\, siano essi a servizio del settore terziario\, ospedaliero o industriale\, sono ancora responsabili di un elevato dispendio energetico. Il corso vuole fornire una panoramica completa sul rischio igienico associato al funzionamento degli impianti aeraulici (climatizzazione\, termoventilazione\, ventilazione) e sul sistema più moderno ed efficace per gestirlo. \n  \nModalità: Webinar\nDocente: Andrea Casa \n  \n\n\nScarica la Brochure del corso \n\n		\n					\n								\n						\n							\n					\n			\n							\n						\n						\n							\n					\n			\n							\n						\n				\n			Richiedi Iscrizione sul sito AIAS		\n				\n				\n				\n								\n				Clicca su “Voglio Partecipare” sarai reindirizzato al sito AIAS per completare l’iscrizione. 					\n						\n				\n						\n					\n		\n				\n			\n							\n						\n				\n					\n			\n						\n							\n							\n						Voglio Partecipare
URL:https://alisea.com/corso/la-relazione-tra-gestione-igienica-degli-impianti-dellaria-ed-efficienza-energetica-3/
LOCATION:https://alisea.com/corso/la-relazione-tra-gestione-igienica-degli-impianti-dellaria-ed-efficienza-energetica-3/
CATEGORIES:Corso 3,Webinar
ATTACH;FMTTYPE=image/png:https://alisea.com/wp-content/uploads/2024/02/corso-efficienza-energetica.png
END:VEVENT
BEGIN:VEVENT
DTSTART;TZID=Europe/Rome:20241213T090000
DTEND;TZID=Europe/Rome:20241213T130000
DTSTAMP:20260425T180958
CREATED:20240612T085421Z
LAST-MODIFIED:20240612T094912Z
UID:10000019-1734080400-1734094800@alisea.com
SUMMARY:Gestione igienica degli impianti di trattamento aria: ispezione e sanificazione
DESCRIPTION:Il corso vuole offrire una panoramica su tutti gli aspetti operativi di ispezione e sorveglianza degli impianti\, entrando poi nel merito delle principali tecniche di sanificazione e\, anche in funzione di una tutela degli addetti alla manutenzione\, attraverso una disamina attenta delle procedure adottate e dei dispositivi di protezione individuale. L’obiettivo del corso è permettere la comprensione degli aspetti tecnici e procedurali delle operazioni di ispezione e sanificazione aeraulica\, al fine di supervisionare l’esecuzione e verificarne i risultati. Infine\, si presenterà un moderno sistema di controllo remotizzato delle condizioni igieniche basato sull’intelligenza artificiale. \n  \nDocente: Andrea Casa \n  \n\n\nScarica la Brochure del corso
URL:https://alisea.com/corso/gestione-igienica-degli-impianti-di-trattamento-aria-ispezione-e-sanificazione-5/
LOCATION:Alisea S.r.l.\, Frazione Tornello\, 120\, Mezzanino\, PV\, 27040\, Italia
CATEGORIES:Corso 2
ATTACH;FMTTYPE=image/jpeg:https://alisea.com/wp-content/uploads/2024/02/corso-gestione-igienica-jpg.webp
END:VEVENT
END:VCALENDAR