BEGIN:VCALENDAR
VERSION:2.0
PRODID:-//Alisea - ECPv6.4.0//NONSGML v1.0//EN
CALSCALE:GREGORIAN
METHOD:PUBLISH
X-WR-CALNAME:Alisea
X-ORIGINAL-URL:https://alisea.com
X-WR-CALDESC:Events for Alisea
REFRESH-INTERVAL;VALUE=DURATION:PT1H
X-Robots-Tag:noindex
X-PUBLISHED-TTL:PT1H
BEGIN:VTIMEZONE
TZID:Europe/Rome
BEGIN:DAYLIGHT
TZOFFSETFROM:+0100
TZOFFSETTO:+0200
TZNAME:CEST
DTSTART:20260329T010000
END:DAYLIGHT
BEGIN:STANDARD
TZOFFSETFROM:+0200
TZOFFSETTO:+0100
TZNAME:CET
DTSTART:20261025T010000
END:STANDARD
END:VTIMEZONE
BEGIN:VEVENT
DTSTART;TZID=Europe/Rome:20260930T090000
DTEND;TZID=Europe/Rome:20260930T110000
DTSTAMP:20260424T234427
CREATED:20260209T162216Z
LAST-MODIFIED:20260209T162216Z
UID:10000058-1790758800-1790766000@alisea.com
SUMMARY:La valutazione dei rischi legati all’igiene degli impianti di trattamento aria
DESCRIPTION:COSTO: 100€ + IVA (per i soci AIAS è previsto uno sconto) \nIl corso vuole fornire una panoramica completa sul rischio igienico associato al funzionamento degli impianti aeraulici (climatizzazione\, termoventilazione\, ventilazione) e sul sistema più moderno ed efficace per gestirlo. Dopo una parte descrittiva degli impianti di trattamento aria e del loro funzionamento\, entrando nel merito della loro componentistica (Unità di Trattamento Aria\, Umidificatori\, Torri Evaporative\, Condotte Aerauliche\, Unità Fancoil\, Unità a Split-System)\, saranno prese in esame le principali disposizioni normative e i relativi profili di responsabilità. Si analizzerà il Rischio Aeraulico nella sua specificità (vedi contaminazione chimica\, fisica e microbiologica)\, delineando un corretto sistema di Valutazione ai sensi del D.Lgs. 81/08 (DVR)\, di Gestione e di Comunicazione del rischio aeraulico che possa soddisfare i requisiti di igiene\, salute e sicurezza richiesti. \n⏰Durata: 2 ore\n🎓Rilascio: 2 CFP per aggiornamento HSE\, RSPP/ASPP\, Dirigenti\, Preposti\, Datori di Lavoro\n💻​Webinar \nDocente: Andrea Casa \n\nScarica la Brochure del corso \n\n\n		\n					\n								\n						\n							\n					\n			\n							\n						\n						\n							\n					\n			\n							\n						\n				\n			Richiedi Iscrizione sul sito AIAS		\n				\n				\n				\n								\n				Clicca su “Voglio Partecipare” sarai reindirizzato al sito AIAS per completare l’iscrizione. 					\n						\n				\n						\n					\n		\n				\n			\n							\n						\n				\n					\n			\n						\n							\n							\n						Voglio Partecipare
URL:https://alisea.com/corso/la-valutazione-dei-rischi-legati-alligiene-degli-impianti-di-trattamento-aria-17/
CATEGORIES:Corso 1,Webinar
ATTACH;FMTTYPE=image/jpeg:https://alisea.com/wp-content/uploads/2024/02/Corso-valutazione-rischi-jpg.webp
LOCATION:https://alisea.com/corso/la-valutazione-dei-rischi-legati-alligiene-degli-impianti-di-trattamento-aria-17/
END:VEVENT
BEGIN:VEVENT
DTSTART;TZID=Europe/Rome:20261012T090000
DTEND;TZID=Europe/Rome:20261012T110000
DTSTAMP:20260424T234428
CREATED:20260209T162435Z
LAST-MODIFIED:20260209T162435Z
UID:10000059-1791795600-1791802800@alisea.com
SUMMARY:Gestione igienica degli impianti aria: tecniche e sistemi di controllo
DESCRIPTION:COSTO: 100€ + IVA (per i soci AIAS è previsto uno sconto) \nIl corso vuole offrire una panoramica su tutti gli aspetti operativi di ispezione e sorveglianza degli impianti\, entrando poi nel merito delle principali tecniche di sanificazione e\, anche in funzione di una tutela degli addetti alla manutenzione\, attraverso una disamina attenta delle procedure adottate e dei dispositivi di protezione individuale. L’obiettivo del corso è permettere la comprensione degli aspetti tecnici e procedurali delle operazioni di ispezione e sanificazione aeraulica\, al fine di supervisionare l’esecuzione e verificarne i risultati. Infine\, si presenterà un moderno sistema di controllo remotizzato delle condizioni igieniche basato sull’intelligenza artificiale. \n  \nModalità: Webinar\nDocente: Andrea Casa \n  \n\n\nScarica la Brochure del corso
URL:https://alisea.com/corso/gestione-igienica-degli-impianti-aria-tecniche-e-sistemi-di-controllo-4/
CATEGORIES:Corso 2,Webinar
ATTACH;FMTTYPE=image/jpeg:https://alisea.com/wp-content/uploads/2024/02/corso-gestione-igienica-jpg.webp
LOCATION:https://alisea.com/corso/gestione-igienica-degli-impianti-aria-tecniche-e-sistemi-di-controllo-4/
END:VEVENT
BEGIN:VEVENT
DTSTART;TZID=Europe/Rome:20261105T090000
DTEND;TZID=Europe/Rome:20261105T110000
DTSTAMP:20260424T234428
CREATED:20260303T131742Z
LAST-MODIFIED:20260303T131742Z
UID:10000064-1793869200-1793876400@alisea.com
SUMMARY:Efficienza energetica: gestione igienica degli impianti aria e ottimizzazione dei consumi
DESCRIPTION:COSTO: 160€ + IVA (per i soci AIAS è previsto uno sconto) \nDa diversi anni la promozione dell’efficienza energetica è considerata uno dei principali pilastri per lo sviluppo sostenibile\, in quanto consente un migliore utilizzo delle risorse (favorendo il passaggio a un’economia circolare e pulita)\, la riduzione dell’inquinamento e il ripristino della biodiversità del nostro pianeta. Gli edifici\, siano essi a servizio del settore terziario\, ospedaliero o industriale\, sono ancora responsabili di un elevato dispendio energetico. Il corso vuole fornire una panoramica completa sul rischio igienico associato al funzionamento degli impianti aeraulici (climatizzazione\, termoventilazione\, ventilazione) e sul sistema più moderno ed efficace per gestirlo. \n  \nModalità: Webinar\nDocente: Andrea Casa \n  \n\n\nScarica la Brochure del corso \n\n		\n					\n								\n						\n							\n					\n			\n							\n						\n						\n							\n					\n			\n							\n						\n				\n			Richiedi Iscrizione sul sito AIAS		\n				\n				\n				\n								\n				Clicca su “Voglio Partecipare” sarai reindirizzato al sito AIAS per completare l’iscrizione. 					\n						\n				\n						\n					\n		\n				\n			\n							\n						\n				\n					\n			\n						\n							\n							\n						Voglio Partecipare
URL:https://alisea.com/corso/efficienza-energetica-gestione-igienica-degli-impianti-aria-e-ottimizzazione-dei-consumi-3/
CATEGORIES:Corso 3,Webinar
ATTACH;FMTTYPE=image/png:https://alisea.com/wp-content/uploads/2024/02/corso-efficienza-energetica.png
LOCATION:https://alisea.com/corso/efficienza-energetica-gestione-igienica-degli-impianti-aria-e-ottimizzazione-dei-consumi-3/
END:VEVENT
END:VCALENDAR