BEGIN:VCALENDAR
VERSION:2.0
PRODID:-//Alisea - ECPv6.4.0//NONSGML v1.0//EN
CALSCALE:GREGORIAN
METHOD:PUBLISH
X-ORIGINAL-URL:https://alisea.com
X-WR-CALDESC:Events for Alisea
REFRESH-INTERVAL;VALUE=DURATION:PT1H
X-Robots-Tag:noindex
X-PUBLISHED-TTL:PT1H
BEGIN:VTIMEZONE
TZID:Europe/Rome
BEGIN:DAYLIGHT
TZOFFSETFROM:+0100
TZOFFSETTO:+0200
TZNAME:CEST
DTSTART:20250330T010000
END:DAYLIGHT
BEGIN:STANDARD
TZOFFSETFROM:+0200
TZOFFSETTO:+0100
TZNAME:CET
DTSTART:20251026T010000
END:STANDARD
END:VTIMEZONE
BEGIN:VEVENT
DTSTART;TZID=Europe/Rome:20250417T090000
DTEND;TZID=Europe/Rome:20250417T110000
DTSTAMP:20260425T181305
CREATED:20250304T161832Z
LAST-MODIFIED:20250325T104506Z
UID:10000040-1744880400-1744887600@alisea.com
SUMMARY:La valutazione dei rischi legati all’igiene degli impianti di trattamento aria
DESCRIPTION:COSTO: 100€ + IVA (per i soci AIAS è previsto uno sconto) \nIl corso vuole fornire una panoramica completa sul rischio igienico associato al funzionamento degli impianti aeraulici (climatizzazione\, termoventilazione\, ventilazione) e sul sistema più moderno ed efficace per gestirlo. Dopo una parte descrittiva degli impianti di trattamento aria e del loro funzionamento\, entrando nel merito della loro componentistica (Unità di Trattamento Aria\, Umidificatori\, Torri Evaporative\, Condotte Aerauliche\, Unità Fancoil\, Unità a Split-System)\, saranno prese in esame le principali disposizioni normative e i relativi profili di responsabilità. Si analizzerà il Rischio Aeraulico nella sua specificità (vedi contaminazione chimica\, fisica e microbiologica)\, delineando un corretto sistema di Valutazione ai sensi del D.Lgs. 81/08 (DVR)\, di Gestione e di Comunicazione del rischio aeraulico che possa soddisfare i requisiti di igiene\, salute e sicurezza richiesti. \n⏰Durata: 2 ore\n🎓Rilascio: 2 CFP per aggiornamento HSE\, RSPP/ASPP\, Dirigenti\, Preposti\, Datori di Lavoro\n💻​Webinar \nDocente: Andrea Casa \n\n		\n					\n								\n						\n							\n					\n			\n							\n						\n						\n							\n					\n			\n							\n						\n				\n			Richiedi Iscrizione sul sito AIAS		\n				\n				\n				\n								\n				Clicca su “Voglio Partecipare” sarai reindirizzato al sito AIAS per completare l’iscrizione. 					\n						\n				\n						\n					\n		\n				\n			\n							\n						\n				\n					\n			\n						\n							\n							\n						Voglio Partecipare
URL:https://alisea.com/corso/la-valutazione-dei-rischi-legati-alligiene-degli-impianti-di-trattamento-aria-16/
LOCATION:https://alisea.com/corso/la-valutazione-dei-rischi-legati-alligiene-degli-impianti-di-trattamento-aria-16/
CATEGORIES:Corso 1,Webinar
ATTACH;FMTTYPE=image/jpeg:https://alisea.com/wp-content/uploads/2024/02/Corso-valutazione-rischi-jpg.webp
END:VEVENT
END:VCALENDAR