BEGIN:VCALENDAR
VERSION:2.0
PRODID:-//Alisea - ECPv6.4.0//NONSGML v1.0//EN
CALSCALE:GREGORIAN
METHOD:PUBLISH
X-WR-CALNAME:Alisea
X-ORIGINAL-URL:https://alisea.com
X-WR-CALDESC:Events for Alisea
REFRESH-INTERVAL;VALUE=DURATION:PT1H
X-Robots-Tag:noindex
X-PUBLISHED-TTL:PT1H
BEGIN:VTIMEZONE
TZID:Europe/Rome
BEGIN:DAYLIGHT
TZOFFSETFROM:+0100
TZOFFSETTO:+0200
TZNAME:CEST
DTSTART:20260329T010000
END:DAYLIGHT
BEGIN:STANDARD
TZOFFSETFROM:+0200
TZOFFSETTO:+0100
TZNAME:CET
DTSTART:20261025T010000
END:STANDARD
END:VTIMEZONE
BEGIN:VEVENT
DTSTART;TZID=Europe/Rome:20260423T090000
DTEND;TZID=Europe/Rome:20260423T133000
DTSTAMP:20260424T173003
CREATED:20260107T091948Z
LAST-MODIFIED:20260330T125546Z
UID:10000048-1776934800-1776951000@alisea.com
SUMMARY:La sicurezza sul lavoro tra impianti di aspirazione\, rischio e gestione incendi.
DESCRIPTION:CORSO GRATUITO IN PRESENZA – A partire dalla nuova norma UNI EN 15780:2025\, il corso offre un approfondimento sulla gestione degli impianti aeraulici\, di aspirazione e sul rischio incendio\, con particolare attenzione all’ambiente cucina. Il percorso integra aspetti normativi\, teoria e alcune simulazioni\, fornendo competenze operative per la corretta applicazione degli agenti estinguenti e la gestione delle emergenze. \n  \nRILASCIO DI 3 CFP VALIDI COME AGGIORNAMENTO PER RSPP/ASPP\, CSE/CSP\, PREPOSTI E FORMATORI \n  \nRelatori: Andrea Casa\, in collaborazione con Diego Ragni\, formatore antincendio di APT Safety Group \n\n\nScarica la Brochure del corso \n  \n\nPer iscriverti o chiedere informazioni\, compila il form al link: \nIscriviti subito!
URL:https://alisea.com/corso/la-sicurezza-sul-lavoro-tra-impianti-di-aspirazione-rischio-e-gestione-incendi/
LOCATION:APT Safety Group\, Via delle Azalee 21\, Sant’Alessio con Vialone (PV)\, Pavia\, Italy
CATEGORIES:Corso 5: Aggiornamento normativo impianti di estrazione aria: UNI EN 15780:2025
ATTACH;FMTTYPE=image/png:https://alisea.com/wp-content/uploads/2026/01/corso-230426.png
END:VEVENT
END:VCALENDAR