BEGIN:VCALENDAR
VERSION:2.0
PRODID:-//Alisea - ECPv6.4.0//NONSGML v1.0//EN
CALSCALE:GREGORIAN
METHOD:PUBLISH
X-WR-CALNAME:Alisea
X-ORIGINAL-URL:https://alisea.com
X-WR-CALDESC:Events for Alisea
REFRESH-INTERVAL;VALUE=DURATION:PT1H
X-Robots-Tag:noindex
X-PUBLISHED-TTL:PT1H
BEGIN:VTIMEZONE
TZID:Europe/Rome
BEGIN:DAYLIGHT
TZOFFSETFROM:+0100
TZOFFSETTO:+0200
TZNAME:CEST
DTSTART:20250330T010000
END:DAYLIGHT
BEGIN:STANDARD
TZOFFSETFROM:+0200
TZOFFSETTO:+0100
TZNAME:CET
DTSTART:20251026T010000
END:STANDARD
END:VTIMEZONE
BEGIN:VEVENT
DTSTART;TZID=Europe/Rome:20251027T090000
DTEND;TZID=Europe/Rome:20251027T110000
DTSTAMP:20260425T014933
CREATED:20250506T090908Z
LAST-MODIFIED:20250930T083307Z
UID:10000042-1761555600-1761562800@alisea.com
SUMMARY:Efficienza energetica: gestione igienica degli impianti aria e ottimizzazione dei consumi
DESCRIPTION:COSTO: 160€ + IVA (per i soci AIAS è previsto uno sconto) \nDa diversi anni la promozione dell’efficienza energetica è considerata uno dei principali pilastri per lo sviluppo sostenibile\, in quanto consente un migliore utilizzo delle risorse (favorendo il passaggio a un’economia circolare e pulita)\, la riduzione dell’inquinamento e il ripristino della biodiversità del nostro pianeta. Gli edifici\, siano essi a servizio del settore terziario\, ospedaliero o industriale\, sono ancora responsabili di un elevato dispendio energetico. Il corso vuole fornire una panoramica completa sul rischio igienico associato al funzionamento degli impianti aeraulici (climatizzazione\, termoventilazione\, ventilazione) e sul sistema più moderno ed efficace per gestirlo. \n  \nModalità: Webinar\nDocente: Andrea Casa \n  \n\n\nScarica la Brochure del corso \n\n		\n					\n								\n						\n							\n					\n			\n							\n						\n						\n							\n					\n			\n							\n						\n				\n			Richiedi Iscrizione sul sito AIAS		\n				\n				\n				\n								\n				Clicca su “Voglio Partecipare” sarai reindirizzato al sito AIAS per completare l’iscrizione. 					\n						\n				\n						\n					\n		\n				\n			\n							\n						\n				\n					\n			\n						\n							\n							\n						Voglio Partecipare
URL:https://alisea.com/corso/la-relazione-tra-gestione-igienica-degli-impianti-dellaria-ed-efficienza-energetica-7/
LOCATION:https://alisea.com/corso/la-relazione-tra-gestione-igienica-degli-impianti-dellaria-ed-efficienza-energetica-7/
CATEGORIES:Corso 3,Webinar
ATTACH;FMTTYPE=image/png:https://alisea.com/wp-content/uploads/2024/02/corso-efficienza-energetica.png
END:VEVENT
END:VCALENDAR